BEGIN:VCALENDAR
VERSION:2.0
PRODID:-//Stummfilm-Live - ECPv6.15.20//NONSGML v1.0//EN
CALSCALE:GREGORIAN
METHOD:PUBLISH
X-WR-CALNAME:Stummfilm-Live
X-ORIGINAL-URL:https://www.stummfilm-live.de
X-WR-CALDESC:Veranstaltungen für Stummfilm-Live
REFRESH-INTERVAL;VALUE=DURATION:PT1H
X-Robots-Tag:noindex
X-PUBLISHED-TTL:PT1H
BEGIN:VTIMEZONE
TZID:UTC
BEGIN:STANDARD
TZOFFSETFROM:+0000
TZOFFSETTO:+0000
TZNAME:UTC
DTSTART:20250101T000000
END:STANDARD
END:VTIMEZONE
BEGIN:VEVENT
DTSTART;TZID=UTC:20260425T200000
DTEND;TZID=UTC:20260425T220000
DTSTAMP:20260425T041850
CREATED:20260103T170600Z
LAST-MODIFIED:20260424T163611Z
UID:19777-1777147200-1777154400@www.stummfilm-live.de
SUMMARY:Stummfilmkonzert "Erdgift" (Mit simultanem Klavier und Orgel)
DESCRIPTION:25.04.26\nBlack Box im Filmmuseum Düsseldorf\nSchulstr. 4 \nInfos zum Film – kurz und knapp\nKurzüberblick:\nErdgift\nStummfilm\nD 1919\nRegie: Paul Otto\nD: ca. 84 min. \nInhalt:\nEin Bildhauer wird durch ein Werk\, das er nach dem Modell eines Mädchens geschaffen\, berühmt\, die jedoch sein Verderben wird. \nFrau und Kind verlassen ihn\, und als er sich von ihr betrogen sieht\, vernichtet er sein Kunstwerk und findet unter dessen Trümmern den Tod… \nDie Musikfassung:\n\nwird so klingen\, wie sie in einem Kino der frühen Stummfilmzeit hätte sein können. \nSie ist zwar Neukomposition\, spürt aber dem Geist der cinehistorischen Filmmusiken um 1910 bis 1920 nach.  \nWilfried Kaets gehört zu den dienstältesten Stummfilmmusikern Deutschlands und hat noch bei alten Stummfilmpianisten und -organisten wie Heinrich Riethmüller gelernt. \n\nAusführende:\nWilfried Kaets – Kinoorgel\, Klavier\nWeitere Infos zum Film: Erdgift
URL:https://www.stummfilm-live.de/event/stummfilmkonzert-erdgift/
LOCATION:Black Box\, Schulstraße 4\, Düsseldorf\, NRW\, 40213\, Deutschland
CATEGORIES:Erdgift
ATTACH;FMTTYPE=image/webp:https://www.stummfilm-live.de/wp-content/uploads/2026/01/Erdgeist-1.jpg-e1767449788119.webp
END:VEVENT
END:VCALENDAR