BEGIN:VCALENDAR
VERSION:2.0
PRODID:-//Stummfilm-Live - ECPv6.15.20//NONSGML v1.0//EN
CALSCALE:GREGORIAN
METHOD:PUBLISH
X-WR-CALNAME:Stummfilm-Live
X-ORIGINAL-URL:https://www.stummfilm-live.de/en/
X-WR-CALDESC:Events for Stummfilm-Live
REFRESH-INTERVAL;VALUE=DURATION:PT1H
X-Robots-Tag:noindex
X-PUBLISHED-TTL:PT1H
BEGIN:VTIMEZONE
TZID:UTC
BEGIN:STANDARD
TZOFFSETFROM:+0000
TZOFFSETTO:+0000
TZNAME:UTC
DTSTART:20250101T000000
END:STANDARD
END:VTIMEZONE
BEGIN:VEVENT
DTSTART;TZID=UTC:20260425T200000
DTEND;TZID=UTC:20260425T220000
DTSTAMP:20260425T023309
CREATED:20260103T170600Z
LAST-MODIFIED:20260424T163538Z
UID:19778-1777147200-1777154400@www.stummfilm-live.de
SUMMARY:Silent Film Concert "Erdgift" (Organ and piano simultaneously)
DESCRIPTION:25.04.26\nBlack Box\nSchulstr. 4 Düsseldorf \nInfo\n\nGermany 1919 \nDirector: Paul Otto \nDuration: approx. 84 min. \nShort and Sweet\nA sculptor becomes famous through a work he created after a young girl as a model\, but she will become his downfall. \nHis wife and child leave him\, and when he sees himself betrayed by her\, he destroys his artwork and finds death beneath its ruins… \nAbout the music\nThe musical version will sound as it could have been in a cinema of the early silent film era. \nAlthough it is a new composition\, it captures the spirit of cine-historical film music from around 1910 to 1920. \nWilfried Kaets is one of the longest-serving silent film musicians in Germany and learned from old silent film pianists and organists such as Heinrich Riethmüller. \n\nMore Information about: Earth Spirit
URL:https://www.stummfilm-live.de/en/event/silent-film-concert-earth-spirit-organ-and-piano-simultaneously/
LOCATION:Black Box\, Schulstraße 4\, Düsseldorf\, NRW\, 40213\, Deutschland
CATEGORIES:Erdgift en
ATTACH;FMTTYPE=image/webp:https://www.stummfilm-live.de/wp-content/uploads/2026/01/Erdgeist-1.jpg-e1767453511597.webp
END:VEVENT
END:VCALENDAR